BEGIN:VCALENDAR
VERSION:2.0
PRODID:-//TV St. Georgen Tischtennisabteilung - ECPv6.15.20//NONSGML v1.0//EN
CALSCALE:GREGORIAN
METHOD:PUBLISH
X-WR-CALNAME:TV St. Georgen Tischtennisabteilung
X-ORIGINAL-URL:https://tvstg-tischtennis.de
X-WR-CALDESC:Veranstaltungen für TV St. Georgen Tischtennisabteilung
REFRESH-INTERVAL;VALUE=DURATION:PT1H
X-Robots-Tag:noindex
X-PUBLISHED-TTL:PT1H
BEGIN:VTIMEZONE
TZID:Europe/Berlin
BEGIN:DAYLIGHT
TZOFFSETFROM:+0100
TZOFFSETTO:+0200
TZNAME:CEST
DTSTART:20240331T010000
END:DAYLIGHT
BEGIN:STANDARD
TZOFFSETFROM:+0200
TZOFFSETTO:+0100
TZNAME:CET
DTSTART:20241027T010000
END:STANDARD
BEGIN:DAYLIGHT
TZOFFSETFROM:+0100
TZOFFSETTO:+0200
TZNAME:CEST
DTSTART:20250330T010000
END:DAYLIGHT
BEGIN:STANDARD
TZOFFSETFROM:+0200
TZOFFSETTO:+0100
TZNAME:CET
DTSTART:20251026T010000
END:STANDARD
BEGIN:DAYLIGHT
TZOFFSETFROM:+0100
TZOFFSETTO:+0200
TZNAME:CEST
DTSTART:20260329T010000
END:DAYLIGHT
BEGIN:STANDARD
TZOFFSETFROM:+0200
TZOFFSETTO:+0100
TZNAME:CET
DTSTART:20261025T010000
END:STANDARD
END:VTIMEZONE
BEGIN:VEVENT
DTSTART;TZID=Europe/Berlin:20250106T140000
DTEND;TZID=Europe/Berlin:20250106T200000
DTSTAMP:20260419T230745
CREATED:20241122T135858Z
LAST-MODIFIED:20241122T135858Z
UID:2479-1736172000-1736193600@tvstg-tischtennis.de
SUMMARY:Vereinsmeisterschaften Damen und Herren
DESCRIPTION:TV St. Georgen Tischtennis
URL:https://tvstg-tischtennis.de/event/vereinsmeisterschaften-damen-und-herren/
END:VEVENT
BEGIN:VEVENT
DTSTART;VALUE=DATE:20250107
DTEND;VALUE=DATE:20250109
DTSTAMP:20260419T230745
CREATED:20241122T135929Z
LAST-MODIFIED:20241122T135929Z
UID:2481-1736226000-1736312399@tvstg-tischtennis.de
SUMMARY:Erster Trainingstag
DESCRIPTION:TV St. Georgen Tischtennis
URL:https://tvstg-tischtennis.de/event/erster-trainingstag/
END:VEVENT
END:VCALENDAR