BEGIN:VCALENDAR
VERSION:2.0
PRODID:-//TV St. Georgen Tischtennisabteilung - ECPv6.15.20//NONSGML v1.0//EN
CALSCALE:GREGORIAN
METHOD:PUBLISH
X-WR-CALNAME:TV St. Georgen Tischtennisabteilung
X-ORIGINAL-URL:https://tvstg-tischtennis.de
X-WR-CALDESC:Veranstaltungen für TV St. Georgen Tischtennisabteilung
REFRESH-INTERVAL;VALUE=DURATION:PT1H
X-Robots-Tag:noindex
X-PUBLISHED-TTL:PT1H
BEGIN:VTIMEZONE
TZID:Europe/Berlin
BEGIN:DAYLIGHT
TZOFFSETFROM:+0100
TZOFFSETTO:+0200
TZNAME:CEST
DTSTART:20230326T010000
END:DAYLIGHT
BEGIN:STANDARD
TZOFFSETFROM:+0200
TZOFFSETTO:+0100
TZNAME:CET
DTSTART:20231029T010000
END:STANDARD
BEGIN:DAYLIGHT
TZOFFSETFROM:+0100
TZOFFSETTO:+0200
TZNAME:CEST
DTSTART:20240331T010000
END:DAYLIGHT
BEGIN:STANDARD
TZOFFSETFROM:+0200
TZOFFSETTO:+0100
TZNAME:CET
DTSTART:20241027T010000
END:STANDARD
BEGIN:DAYLIGHT
TZOFFSETFROM:+0100
TZOFFSETTO:+0200
TZNAME:CEST
DTSTART:20250330T010000
END:DAYLIGHT
BEGIN:STANDARD
TZOFFSETFROM:+0200
TZOFFSETTO:+0100
TZNAME:CET
DTSTART:20251026T010000
END:STANDARD
END:VTIMEZONE
BEGIN:VEVENT
DTSTART;TZID=Europe/Berlin:20240910T190000
DTEND;TZID=Europe/Berlin:20240910T193000
DTSTAMP:20260420T063829
CREATED:20240516T192546Z
LAST-MODIFIED:20240516T192546Z
UID:2106-1725994800-1725996600@tvstg-tischtennis.de
SUMMARY:Fototermin für Mannschaftsfoto und Gruppenfoto
DESCRIPTION:TV St. Georgen Tischtennis
URL:https://tvstg-tischtennis.de/event/fototermin-fuer-mannschaftsfoto-und-gruppenfoto/
END:VEVENT
BEGIN:VEVENT
DTSTART;TZID=Europe/Berlin:20240912T200000
DTEND;TZID=Europe/Berlin:20240912T203000
DTSTAMP:20260420T063829
CREATED:20240516T192713Z
LAST-MODIFIED:20240516T192713Z
UID:2108-1726171200-1726173000@tvstg-tischtennis.de
SUMMARY:Platten putzen vor dem Training
DESCRIPTION:TV St. Georgen Tischtennis
URL:https://tvstg-tischtennis.de/event/platten-putzen-vor-dem-training/
END:VEVENT
END:VCALENDAR