BEGIN:VCALENDAR
VERSION:2.0
PRODID:-//TV St. Georgen Tischtennisabteilung - ECPv6.15.20//NONSGML v1.0//EN
CALSCALE:GREGORIAN
METHOD:PUBLISH
X-ORIGINAL-URL:https://tvstg-tischtennis.de
X-WR-CALDESC:Veranstaltungen für TV St. Georgen Tischtennisabteilung
REFRESH-INTERVAL;VALUE=DURATION:PT1H
X-Robots-Tag:noindex
X-PUBLISHED-TTL:PT1H
BEGIN:VTIMEZONE
TZID:Europe/Berlin
BEGIN:DAYLIGHT
TZOFFSETFROM:+0100
TZOFFSETTO:+0200
TZNAME:CEST
DTSTART:20220327T010000
END:DAYLIGHT
BEGIN:STANDARD
TZOFFSETFROM:+0200
TZOFFSETTO:+0100
TZNAME:CET
DTSTART:20221030T010000
END:STANDARD
BEGIN:DAYLIGHT
TZOFFSETFROM:+0100
TZOFFSETTO:+0200
TZNAME:CEST
DTSTART:20230326T010000
END:DAYLIGHT
BEGIN:STANDARD
TZOFFSETFROM:+0200
TZOFFSETTO:+0100
TZNAME:CET
DTSTART:20231029T010000
END:STANDARD
BEGIN:DAYLIGHT
TZOFFSETFROM:+0100
TZOFFSETTO:+0200
TZNAME:CEST
DTSTART:20240331T010000
END:DAYLIGHT
BEGIN:STANDARD
TZOFFSETFROM:+0200
TZOFFSETTO:+0100
TZNAME:CET
DTSTART:20241027T010000
END:STANDARD
END:VTIMEZONE
BEGIN:VEVENT
DTSTART;TZID=Europe/Berlin:20231215T050000
DTEND;TZID=Europe/Berlin:20231215T200000
DTSTAMP:20260421T031034
CREATED:20230425T193535Z
LAST-MODIFIED:20231215T163642Z
UID:1440-1702616400-1702670400@tvstg-tischtennis.de
SUMMARY:Spielerversammlung für die RR-Aufstellungen
DESCRIPTION:TV St. Georgen Tischtennis
URL:https://tvstg-tischtennis.de/event/spielerversammlung-fuer-die-rr-aufstellungen/
END:VEVENT
BEGIN:VEVENT
DTSTART;VALUE=DATE:20231221
DTEND;VALUE=DATE:20231223
DTSTAMP:20260421T031034
CREATED:20231215T163613Z
LAST-MODIFIED:20231215T163613Z
UID:1805-1703134800-1703221199@tvstg-tischtennis.de
SUMMARY:Weihnachtstraining der Jugend
DESCRIPTION:TV St. Georgen Tischtennis
URL:https://tvstg-tischtennis.de/event/weihnachtstraining-der-jugend/
END:VEVENT
BEGIN:VEVENT
DTSTART;VALUE=DATE:20231222
DTEND;VALUE=DATE:20231224
DTSTAMP:20260421T031034
CREATED:20231215T163711Z
LAST-MODIFIED:20231215T163711Z
UID:1807-1703221200-1703307599@tvstg-tischtennis.de
SUMMARY:Letzter Trainingstag
DESCRIPTION:TV St. Georgen Tischtennis
URL:https://tvstg-tischtennis.de/event/letzter-trainingstag-2/
END:VEVENT
BEGIN:VEVENT
DTSTART;VALUE=DATE:20231229
DTEND;VALUE=DATE:20231231
DTSTAMP:20260421T031034
CREATED:20230512T161106Z
LAST-MODIFIED:20230512T161106Z
UID:1465-1703826000-1703912399@tvstg-tischtennis.de
SUMMARY:Jahresabschluss
DESCRIPTION:TV St. Georgen Tischtennis
URL:https://tvstg-tischtennis.de/event/jahresabschluss/
END:VEVENT
END:VCALENDAR