BEGIN:VCALENDAR
VERSION:2.0
PRODID:-//TV St. Georgen Tischtennisabteilung - ECPv6.15.20//NONSGML v1.0//EN
CALSCALE:GREGORIAN
METHOD:PUBLISH
X-ORIGINAL-URL:https://tvstg-tischtennis.de
X-WR-CALDESC:Veranstaltungen für TV St. Georgen Tischtennisabteilung
REFRESH-INTERVAL;VALUE=DURATION:PT1H
X-Robots-Tag:noindex
X-PUBLISHED-TTL:PT1H
BEGIN:VTIMEZONE
TZID:Europe/Berlin
BEGIN:DAYLIGHT
TZOFFSETFROM:+0100
TZOFFSETTO:+0200
TZNAME:CEST
DTSTART:20220327T010000
END:DAYLIGHT
BEGIN:STANDARD
TZOFFSETFROM:+0200
TZOFFSETTO:+0100
TZNAME:CET
DTSTART:20221030T010000
END:STANDARD
BEGIN:DAYLIGHT
TZOFFSETFROM:+0100
TZOFFSETTO:+0200
TZNAME:CEST
DTSTART:20230326T010000
END:DAYLIGHT
BEGIN:STANDARD
TZOFFSETFROM:+0200
TZOFFSETTO:+0100
TZNAME:CET
DTSTART:20231029T010000
END:STANDARD
BEGIN:DAYLIGHT
TZOFFSETFROM:+0100
TZOFFSETTO:+0200
TZNAME:CEST
DTSTART:20240331T010000
END:DAYLIGHT
BEGIN:STANDARD
TZOFFSETFROM:+0200
TZOFFSETTO:+0100
TZNAME:CET
DTSTART:20241027T010000
END:STANDARD
END:VTIMEZONE
BEGIN:VEVENT
DTSTART;VALUE=DATE:20230512
DTEND;VALUE=DATE:20230514
DTSTAMP:20260421T152734
CREATED:20221209T115407Z
LAST-MODIFIED:20230302T201342Z
UID:832-1683867600-1683953999@tvstg-tischtennis.de
SUMMARY:Hauptversammlung Abteilung Tischtennis
DESCRIPTION:TV St. Georgen Tischtennis
URL:https://tvstg-tischtennis.de/event/hauptversammlung-abteilung-tischtennis/
END:VEVENT
BEGIN:VEVENT
DTSTART;TZID=Europe/Berlin:20230518T075000
DTEND;TZID=Europe/Berlin:20230518T210000
DTSTAMP:20260421T152734
CREATED:20230425T193200Z
LAST-MODIFIED:20230425T193200Z
UID:1434-1684396200-1684443600@tvstg-tischtennis.de
SUMMARY:Himmelfahrtswanderung des TVS
DESCRIPTION:Alle Mitglieder des Turnvereins sind recht herzlich eingeladen zur Himmelfahrtswanderung\, die uns dieses Jahr von Biederbach nach Steinach (Kinzigtal) führt. \nWir werden gemeinsam von Biederbach aus\, einen Teil des Querweges Lahr-Rottweil wandern. \nStartpunkt ist in Biederbach Höhenhäusern am Gasthaus Kreuz. Nach ca. 1\,5 km erreichen wir die Lahrer Hütte\, diese ist ab 12 Uhr bewirtschaftet. Wir folgen weiter der rot-blauen Raute bis wir nach insgesamt 6 km die Herberge Schlossberg erreichen. Hier besteht die Möglichkeit zur Einkehr. Unser Weg führt uns weiter vorbei am Katzenstein in Richtung „Auf der Schanz“\, alles der rot-blauen Raute nach. Ein Stück weiter (nach ca. 8 km) kommen wir an eine Weggabelung. Wir verlassen die rot-blaue Raute (ab hier der gelben Raute folgen) und biegen rechts in Richtung unserer nächsten Station\, der Schirrmaierhütte\, ab. Von dort aus ist es nicht mehr weit bis zu unserem Ziel nach Steinach. \nDie Wanderstrecke hat eine Gesamtlänge von 15 km. Gutes Schuhwerk und eine Wegzehrung sind empfehlenswert. Aufgrund des Höhenprofils sollten ca. 4\,5 h reine Gehzeit eingeplant werden. \nhttps://www.komoot.de/tour/1057462995?share_token=a8Hi4jH4kZAI10WClnZIHh9Ls9dywUzevqnsVDxyxYKqObuGg7&ref=wtd \n  \nAbfahrt St. Georgen: 7:50 Uhr Seebauernhöhe Bushaltestelle \n8:00 Uhr Robert-Gerwig-Schule \nAbfahrt Steinach: 19:00 Uhr Bahnhof Steinach \n  \nPreise: Erwachsene 10 €\, Jugendliche von 6-14 Jahren 5 €\, Kinder unter 6 sind frei \n  \nWer dabei sein will\, sollte sich bitte schnellstmöglich anmelden\, über eure Abteilungsleiter\, oder über folgende E-Mail- Adresse: himmelfahrt-tvs@gmx.de oder telefonisch bei Volker Friebe Tel. (9486993) oder Bernhard Lobmeier Tel. (8834635) \nWenn der erste Bus voll ist werden wir ggf. eine Warteliste erstellen und bei entsprechender Anzahl Teilnehmer einen 2. Bus laufen lassen. \nWir freuen uns auf eine schöne Wanderung  \n  \nGrüße Volker und Bernhard! \nTV St. Georgen Tischtennis
URL:https://tvstg-tischtennis.de/event/himmelfahrtswanderung-des-tvs/
END:VEVENT
END:VCALENDAR